Package: motifbreakR Version: 2.22.0 Command: /Library/Frameworks/R.framework/Resources/bin/R CMD INSTALL motifbreakR StartedAt: 2025-10-13 16:36:49 -0400 (Mon, 13 Oct 2025) EndedAt: 2025-10-13 16:39:23 -0400 (Mon, 13 Oct 2025) EllapsedTime: 154.2 seconds RetCode: 0 Status: OK