Package: mosaics Version: 2.46.0 Command: /Library/Frameworks/R.framework/Resources/bin/R CMD build --keep-empty-dirs --no-resave-data mosaics StartedAt: 2025-10-13 20:44:29 -0400 (Mon, 13 Oct 2025) EndedAt: 2025-10-13 20:51:22 -0400 (Mon, 13 Oct 2025) EllapsedTime: 412.4 seconds RetCode: 0 Status: OK PackageFile: mosaics_2.46.0.tar.gz PackageFileSize: 2.039 MiB