Package: monocle Version: 2.36.0 Command: rm -rf monocle.buildbin-libdir && mkdir monocle.buildbin-libdir && E:\biocbuild\bbs-3.21-bioc\R\bin\R.exe CMD INSTALL --build --library=monocle.buildbin-libdir monocle_2.36.0.tar.gz StartedAt: 2025-08-15 09:45:00 -0400 (Fri, 15 Aug 2025) EndedAt: 2025-08-15 09:46:02 -0400 (Fri, 15 Aug 2025) EllapsedTime: 62.0 seconds RetCode: 0 Status: OK PackageFile: monocle_2.36.0.zip PackageFileSize: 1.709 MiB