Package: monocle Version: 2.36.0 Command: /Library/Frameworks/R.framework/Resources/bin/R CMD INSTALL monocle StartedAt: 2025-10-13 15:24:54 -0400 (Mon, 13 Oct 2025) EndedAt: 2025-10-13 15:25:41 -0400 (Mon, 13 Oct 2025) EllapsedTime: 47.0 seconds RetCode: 0 Status: OK