Package: monocle Version: 2.36.0 Command: /Library/Frameworks/R.framework/Resources/bin/R CMD INSTALL monocle StartedAt: 2025-10-13 15:38:44 -0400 (Mon, 13 Oct 2025) EndedAt: 2025-10-13 15:39:09 -0400 (Mon, 13 Oct 2025) EllapsedTime: 24.3 seconds RetCode: 0 Status: OK