Package: monocle Version: 2.36.0 Command: /Library/Frameworks/R.framework/Resources/bin/R CMD check --install=check:monocle.install-out.txt --library=/Library/Frameworks/R.framework/Resources/library --no-vignettes --timings monocle_2.36.0.tar.gz StartedAt: 2025-10-15 04:27:52 -0400 (Wed, 15 Oct 2025) EndedAt: 2025-10-15 04:29:46 -0400 (Wed, 15 Oct 2025) EllapsedTime: 114.5 seconds RetCode: 0 Status: OK CheckDir: monocle.Rcheck Warnings: 0