Package: monocle Version: 2.36.0 Command: /Library/Frameworks/R.framework/Resources/bin/R CMD build --keep-empty-dirs --no-resave-data monocle StartedAt: 2025-10-14 04:50:46 -0400 (Tue, 14 Oct 2025) EndedAt: 2025-10-14 04:51:26 -0400 (Tue, 14 Oct 2025) EllapsedTime: 39.3 seconds RetCode: 0 Status: OK PackageFile: monocle_2.36.0.tar.gz PackageFileSize: 9.006 MiB