Package: monaLisa Version: 1.14.0 Command: chmod a+r monaLisa -R && E:\biocbuild\bbs-3.21-bioc\R\bin\R.exe CMD build --keep-empty-dirs --no-resave-data monaLisa StartedAt: 2025-08-14 20:32:36 -0400 (Thu, 14 Aug 2025) EndedAt: 2025-08-14 20:40:20 -0400 (Thu, 14 Aug 2025) EllapsedTime: 463.3 seconds RetCode: 0 Status: OK PackageFile: monaLisa_1.14.0.tar.gz PackageFileSize: 4.38 MiB