Package: monaLisa Version: 1.14.1 Command: /Library/Frameworks/R.framework/Resources/bin/R CMD check --install=check:monaLisa.install-out.txt --library=/Library/Frameworks/R.framework/Resources/library --no-vignettes --timings monaLisa_1.14.1.tar.gz StartedAt: 2025-10-07 06:39:24 -0400 (Tue, 07 Oct 2025) EndedAt: 2025-10-07 06:51:22 -0400 (Tue, 07 Oct 2025) EllapsedTime: 717.6 seconds RetCode: 0 Status: OK CheckDir: monaLisa.Rcheck Warnings: 0