Package: monaLisa Version: 1.14.1 Command: rm -rf monaLisa.buildbin-libdir && mkdir monaLisa.buildbin-libdir && /Users/biocbuild/BBS/utils/build-universal.sh monaLisa_1.14.1.tar.gz /Library/Frameworks/R.framework/Resources/bin/R monaLisa.buildbin-libdir StartedAt: 2025-10-07 13:48:28 -0400 (Tue, 07 Oct 2025) EndedAt: 2025-10-07 13:50:54 -0400 (Tue, 07 Oct 2025) EllapsedTime: 146.1 seconds RetCode: 0 Status: OK PackageFile: monaLisa_1.14.1.tgz PackageFileSize: 7.082 MiB