Package: monaLisa Version: 1.14.1 Command: /Library/Frameworks/R.framework/Resources/bin/R CMD INSTALL monaLisa StartedAt: 2025-10-06 18:02:40 -0400 (Mon, 06 Oct 2025) EndedAt: 2025-10-06 18:03:33 -0400 (Mon, 06 Oct 2025) EllapsedTime: 52.5 seconds RetCode: 0 Status: OK