Package: monaLisa Version: 1.14.1 Command: /Library/Frameworks/R.framework/Resources/bin/R CMD build --keep-empty-dirs --no-resave-data monaLisa StartedAt: 2025-10-07 05:04:24 -0400 (Tue, 07 Oct 2025) EndedAt: 2025-10-07 05:09:25 -0400 (Tue, 07 Oct 2025) EllapsedTime: 301.5 seconds RetCode: 0 Status: OK PackageFile: monaLisa_1.14.1.tar.gz PackageFileSize: 6.896 MiB