Package: mogsa Version: 1.44.0 Command: /home/biocbuild/R/R/bin/R CMD check --install=check:mogsa.install-out.txt --library=/home/biocbuild/R/R/site-library --no-vignettes --timings mogsa_1.44.0.tar.gz StartedAt: 2025-11-14 11:43:44 -0000 (Fri, 14 Nov 2025) EndedAt: 2025-11-14 11:47:00 -0000 (Fri, 14 Nov 2025) EllapsedTime: 196.3 seconds RetCode: 1 Status: ERROR CheckDir: mogsa.Rcheck Warnings: NA