Package: mogsa Version: 1.43.0 Command: rm -rf mogsa.buildbin-libdir && mkdir mogsa.buildbin-libdir && F:\biocbuild\bbs-3.22-bioc\R\bin\R.exe CMD INSTALL --build --library=mogsa.buildbin-libdir mogsa_1.43.0.tar.gz StartedAt: 2025-08-15 10:44:32 -0400 (Fri, 15 Aug 2025) EndedAt: 2025-08-15 10:45:16 -0400 (Fri, 15 Aug 2025) EllapsedTime: 43.7 seconds RetCode: 0 Status: OK PackageFile: mogsa_1.43.0.zip PackageFileSize: 1.222 MiB