Package: mogsa Version: 1.44.0 Command: /home/biocbuild/bbs-3.22-bioc/R/bin/R CMD check --install=check:mogsa.install-out.txt --library=/home/biocbuild/bbs-3.22-bioc/R/site-library --timings mogsa_1.44.0.tar.gz StartedAt: 2025-11-15 01:57:31 -0500 (Sat, 15 Nov 2025) EndedAt: 2025-11-15 02:01:39 -0500 (Sat, 15 Nov 2025) EllapsedTime: 248.2 seconds RetCode: 0 Status: OK CheckDir: mogsa.Rcheck Warnings: 0