Package: mogsa Version: 1.44.0 Command: /Library/Frameworks/R.framework/Resources/bin/R CMD check --install=check:mogsa.install-out.txt --library=/Library/Frameworks/R.framework/Resources/library --no-vignettes --timings mogsa_1.44.0.tar.gz StartedAt: 2025-11-22 12:52:40 -0500 (Sat, 22 Nov 2025) EndedAt: 2025-11-22 12:56:39 -0500 (Sat, 22 Nov 2025) EllapsedTime: 239.6 seconds RetCode: 0 Status: OK CheckDir: mogsa.Rcheck Warnings: 0