Package: mogsa Version: 1.44.0 Command: /Library/Frameworks/R.framework/Resources/bin/R CMD build --keep-empty-dirs --no-resave-data mogsa StartedAt: 2025-11-21 05:30:16 -0500 (Fri, 21 Nov 2025) EndedAt: 2025-11-21 05:32:15 -0500 (Fri, 21 Nov 2025) EllapsedTime: 119.0 seconds RetCode: 0 Status: OK PackageFile: mogsa_1.44.0.tar.gz PackageFileSize: 774.6 KiB