Package: moanin Version: 1.18.0 Command: /home/biocbuild/bbs-3.22-bioc/R/bin/R CMD build --keep-empty-dirs --no-resave-data --md5 moanin StartedAt: 2025-11-06 18:46:23 -0500 (Thu, 06 Nov 2025) EndedAt: 2025-11-06 18:47:27 -0500 (Thu, 06 Nov 2025) EllapsedTime: 64.0 seconds RetCode: 0 Status: OK PackageFile: moanin_1.18.0.tar.gz PackageFileSize: 525.1 KiB