Package: moanin Version: 1.18.0 Command: /Library/Frameworks/R.framework/Resources/bin/R CMD check --install=check:moanin.install-out.txt --library=/Library/Frameworks/R.framework/Resources/library --no-vignettes --timings moanin_1.18.0.tar.gz StartedAt: 2025-11-03 22:36:00 -0500 (Mon, 03 Nov 2025) EndedAt: 2025-11-03 22:41:37 -0500 (Mon, 03 Nov 2025) EllapsedTime: 336.9 seconds RetCode: 0 Status: OK CheckDir: moanin.Rcheck Warnings: 0