Package: moanin Version: 1.18.0 Command: /Library/Frameworks/R.framework/Resources/bin/R CMD INSTALL moanin StartedAt: 2025-11-06 15:21:16 -0500 (Thu, 06 Nov 2025) EndedAt: 2025-11-06 15:21:31 -0500 (Thu, 06 Nov 2025) EllapsedTime: 15.2 seconds RetCode: 0 Status: OK