Package: moanin Version: 1.18.0 Command: /Library/Frameworks/R.framework/Resources/bin/R CMD check --install=check:moanin.install-out.txt --library=/Library/Frameworks/R.framework/Resources/library --no-vignettes --timings moanin_1.18.0.tar.gz StartedAt: 2025-11-06 20:48:48 -0500 (Thu, 06 Nov 2025) EndedAt: 2025-11-06 20:50:47 -0500 (Thu, 06 Nov 2025) EllapsedTime: 119.4 seconds RetCode: 0 Status: OK CheckDir: moanin.Rcheck Warnings: 0