Package: moanin Version: 1.18.0 Command: /Library/Frameworks/R.framework/Resources/bin/R CMD build --keep-empty-dirs --no-resave-data moanin StartedAt: 2025-11-06 17:03:44 -0500 (Thu, 06 Nov 2025) EndedAt: 2025-11-06 17:04:13 -0500 (Thu, 06 Nov 2025) EllapsedTime: 29.3 seconds RetCode: 0 Status: OK PackageFile: moanin_1.18.0.tar.gz PackageFileSize: 556.7 KiB