Package: moanin Version: 1.18.0 Command: rm -rf moanin.buildbin-libdir && mkdir moanin.buildbin-libdir && /Users/biocbuild/BBS/utils/build-universal.sh moanin_1.18.0.tar.gz /Library/Frameworks/R.framework/Resources/bin/R moanin.buildbin-libdir StartedAt: 2025-11-06 23:12:36 -0500 (Thu, 06 Nov 2025) EndedAt: 2025-11-06 23:12:52 -0500 (Thu, 06 Nov 2025) EllapsedTime: 16.3 seconds RetCode: 0 Status: OK PackageFile: moanin_1.18.0.tgz PackageFileSize: 1006 KiB