Package: moanin Version: 1.18.0 Maintainer: Nelle Varoquaux MaintainerEmail: nelle.varoquaux at gmail.com git_url: https://git.bioconductor.org/packages/moanin git_branch: RELEASE_3_22 git_last_commit: 6b72807 git_last_commit_date: 2025-10-29 11:04:42 -0500 (Wed, 29 Oct 2025)