Package: mnem Version: 1.24.0 Command: E:\biocbuild\bbs-3.21-bioc\R\bin\R.exe CMD check --no-multiarch --install=check:mnem.install-out.txt --library=E:\biocbuild\bbs-3.21-bioc\R\library --no-vignettes --timings mnem_1.24.0.tar.gz StartedAt: 2025-08-15 04:18:02 -0400 (Fri, 15 Aug 2025) EndedAt: 2025-08-15 04:20:51 -0400 (Fri, 15 Aug 2025) EllapsedTime: 168.2 seconds RetCode: 0 Status: OK CheckDir: mnem.Rcheck Warnings: 0