Package: mnem Version: 1.24.0 Command: /Library/Frameworks/R.framework/Resources/bin/R CMD build --keep-empty-dirs --no-resave-data mnem StartedAt: 2025-10-13 20:40:02 -0400 (Mon, 13 Oct 2025) EndedAt: 2025-10-13 20:42:55 -0400 (Mon, 13 Oct 2025) EllapsedTime: 173.3 seconds RetCode: 0 Status: OK PackageFile: mnem_1.24.0.tar.gz PackageFileSize: 4.797 MiB