Package: mixOmics Version: 6.33.0 Command: /home/biocbuild/R/R/bin/R CMD check --install=check:mixOmics.install-out.txt --library=/home/biocbuild/R/R/site-library --no-vignettes --timings mixOmics_6.33.0.tar.gz StartedAt: 2025-10-17 11:09:31 -0000 (Fri, 17 Oct 2025) EndedAt: 2025-10-17 11:43:49 -0000 (Fri, 17 Oct 2025) EllapsedTime: 2058.0 seconds RetCode: 1 Status: ERROR CheckDir: mixOmics.Rcheck Warnings: NA