Package: mixOmics Version: 6.33.0 Command: F:\biocbuild\bbs-3.22-bioc\R\bin\R.exe CMD INSTALL mixOmics StartedAt: 2025-08-14 15:27:41 -0400 (Thu, 14 Aug 2025) EndedAt: 2025-08-14 15:29:20 -0400 (Thu, 14 Aug 2025) EllapsedTime: 99.0 seconds RetCode: 0 Status: OK