Package: mixOmics Version: 6.33.0 Command: chmod a+r mixOmics -R && F:\biocbuild\bbs-3.22-bioc\R\bin\R.exe CMD build --keep-empty-dirs --no-resave-data mixOmics StartedAt: 2025-08-14 21:33:07 -0400 (Thu, 14 Aug 2025) EndedAt: 2025-08-14 21:51:30 -0400 (Thu, 14 Aug 2025) EllapsedTime: 1103.5 seconds RetCode: 0 Status: OK PackageFile: mixOmics_6.33.0.tar.gz PackageFileSize: 10.61 MiB