Package: mixOmics Version: 6.34.0 Command: /home/biocbuild/bbs-3.22-bioc/R/bin/R CMD build --keep-empty-dirs --no-resave-data --md5 mixOmics StartedAt: 2025-11-11 18:50:39 -0500 (Tue, 11 Nov 2025) EndedAt: 2025-11-11 19:01:57 -0500 (Tue, 11 Nov 2025) EllapsedTime: 677.6 seconds RetCode: 0 Status: OK PackageFile: mixOmics_6.34.0.tar.gz PackageFileSize: 18.87 MiB