Package: mitch Version: 1.21.3 Command: /home/biocbuild/R/R/bin/R CMD check --install=check:mitch.install-out.txt --library=/home/biocbuild/R/R/site-library --no-vignettes --timings mitch_1.21.3.tar.gz StartedAt: 2025-10-17 11:08:53 -0000 (Fri, 17 Oct 2025) EndedAt: 2025-10-17 11:15:19 -0000 (Fri, 17 Oct 2025) EllapsedTime: 386.4 seconds RetCode: 0 Status: OK CheckDir: mitch.Rcheck Warnings: 0