Package: mitch Version: 1.21.3 Command: /home/biocbuild/R/R/bin/R CMD build --keep-empty-dirs --no-resave-data mitch StartedAt: 2025-10-21 01:18:49 -0000 (Tue, 21 Oct 2025) EndedAt: 2025-10-21 01:26:10 -0000 (Tue, 21 Oct 2025) EllapsedTime: 440.2 seconds RetCode: 0 Status: OK PackageFile: mitch_1.21.3.tar.gz PackageFileSize: 1.026 MiB