Package: mistyR Version: 1.16.0 Command: /Library/Frameworks/R.framework/Resources/bin/R CMD INSTALL mistyR StartedAt: 2025-10-13 15:18:15 -0400 (Mon, 13 Oct 2025) EndedAt: 2025-10-13 15:18:50 -0400 (Mon, 13 Oct 2025) EllapsedTime: 35.0 seconds RetCode: 0 Status: OK