Package: mistyR Version: 1.16.0 Command: /Library/Frameworks/R.framework/Resources/bin/R CMD build --keep-empty-dirs --no-resave-data mistyR StartedAt: 2025-10-13 20:37:12 -0400 (Mon, 13 Oct 2025) EndedAt: 2025-10-13 20:42:47 -0400 (Mon, 13 Oct 2025) EllapsedTime: 334.7 seconds RetCode: 0 Status: OK PackageFile: mistyR_1.16.0.tar.gz PackageFileSize: 3.102 MiB