Package: mistyR Version: 1.16.0 Command: rm -rf mistyR.buildbin-libdir && mkdir mistyR.buildbin-libdir && /Users/biocbuild/BBS/utils/build-universal.sh mistyR_1.16.0.tar.gz /Library/Frameworks/R.framework/Resources/bin/R mistyR.buildbin-libdir StartedAt: 2025-10-14 14:05:36 -0400 (Tue, 14 Oct 2025) EndedAt: 2025-10-14 14:05:53 -0400 (Tue, 14 Oct 2025) EllapsedTime: 16.9 seconds RetCode: 0 Status: OK PackageFile: mistyR_1.16.0.tgz PackageFileSize: 3.207 MiB