Package: missRows Version: 1.30.0 Command: /home/biocbuild/bbs-3.22-bioc/R/bin/R CMD check --install=check:missRows.install-out.txt --library=/home/biocbuild/bbs-3.22-bioc/R/site-library --timings missRows_1.30.0.tar.gz StartedAt: 2025-11-18 06:04:42 -0500 (Tue, 18 Nov 2025) EndedAt: 2025-11-18 06:09:14 -0500 (Tue, 18 Nov 2025) EllapsedTime: 272.3 seconds RetCode: 0 Status: OK CheckDir: missRows.Rcheck Warnings: 0