Package: mirTarRnaSeq Version: 1.18.0 Command: /home/biocbuild/R/R/bin/R CMD check --install=check:mirTarRnaSeq.install-out.txt --library=/home/biocbuild/R/R/site-library --no-vignettes --timings mirTarRnaSeq_1.18.0.tar.gz StartedAt: 2025-11-18 11:59:30 -0000 (Tue, 18 Nov 2025) EndedAt: 2025-11-18 12:00:53 -0000 (Tue, 18 Nov 2025) EllapsedTime: 83.1 seconds RetCode: 0 Status: OK CheckDir: mirTarRnaSeq.Rcheck Warnings: 0