Package: mirTarRnaSeq Version: 1.18.0 Command: /home/biocbuild/bbs-3.22-bioc/R/bin/R CMD check --install=check:mirTarRnaSeq.install-out.txt --library=/home/biocbuild/bbs-3.22-bioc/R/site-library --timings mirTarRnaSeq_1.18.0.tar.gz StartedAt: 2025-11-21 02:14:17 -0500 (Fri, 21 Nov 2025) EndedAt: 2025-11-21 02:17:55 -0500 (Fri, 21 Nov 2025) EllapsedTime: 218.2 seconds RetCode: 0 Status: OK CheckDir: mirTarRnaSeq.Rcheck Warnings: 0