Package: mirTarRnaSeq Version: 1.18.0 Command: /Library/Frameworks/R.framework/Resources/bin/R CMD check --install=check:mirTarRnaSeq.install-out.txt --library=/Library/Frameworks/R.framework/Resources/library --no-vignettes --timings mirTarRnaSeq_1.18.0.tar.gz StartedAt: 2025-11-03 22:34:11 -0500 (Mon, 03 Nov 2025) EndedAt: 2025-11-03 22:35:28 -0500 (Mon, 03 Nov 2025) EllapsedTime: 76.9 seconds RetCode: 0 Status: OK CheckDir: mirTarRnaSeq.Rcheck Warnings: 0