Package: mirIntegrator Version: 1.40.0 Command: /home/biocbuild/R/R/bin/R CMD build --keep-empty-dirs --no-resave-data mirIntegrator StartedAt: 2025-11-21 03:57:59 -0000 (Fri, 21 Nov 2025) EndedAt: 2025-11-21 03:59:14 -0000 (Fri, 21 Nov 2025) EllapsedTime: 75.0 seconds RetCode: 0 Status: OK PackageFile: mirIntegrator_1.40.0.tar.gz PackageFileSize: 1.799 MiB