Package: mirIntegrator Version: 1.40.0 Command: /Library/Frameworks/R.framework/Resources/bin/R CMD check --install=check:mirIntegrator.install-out.txt --library=/Library/Frameworks/R.framework/Resources/library --no-vignettes --timings mirIntegrator_1.40.0.tar.gz StartedAt: 2025-11-21 07:57:06 -0500 (Fri, 21 Nov 2025) EndedAt: 2025-11-21 08:02:35 -0500 (Fri, 21 Nov 2025) EllapsedTime: 328.5 seconds RetCode: 0 Status: OK CheckDir: mirIntegrator.Rcheck Warnings: 0