Package: mirIntegrator Version: 1.40.0 Command: rm -rf mirIntegrator.buildbin-libdir && mkdir mirIntegrator.buildbin-libdir && /Users/biocbuild/BBS/utils/build-universal.sh mirIntegrator_1.40.0.tar.gz /Library/Frameworks/R.framework/Resources/bin/R mirIntegrator.buildbin-libdir StartedAt: 2025-11-21 15:05:59 -0500 (Fri, 21 Nov 2025) EndedAt: 2025-11-21 15:06:38 -0500 (Fri, 21 Nov 2025) EllapsedTime: 38.9 seconds RetCode: 0 Status: OK PackageFile: mirIntegrator_1.40.0.tgz PackageFileSize: 1.844 MiB