Package: minfi Version: 1.54.1 Command: E:\biocbuild\bbs-3.21-bioc\R\bin\R.exe CMD check --no-multiarch --install=check:minfi.install-out.txt --library=E:\biocbuild\bbs-3.21-bioc\R\library --no-vignettes --timings minfi_1.54.1.tar.gz StartedAt: 2025-08-15 04:11:01 -0400 (Fri, 15 Aug 2025) EndedAt: 2025-08-15 04:21:46 -0400 (Fri, 15 Aug 2025) EllapsedTime: 645.4 seconds RetCode: 0 Status: OK CheckDir: minfi.Rcheck Warnings: 0