Package: minfi Version: 1.54.1 Command: /Library/Frameworks/R.framework/Resources/bin/R CMD INSTALL minfi StartedAt: 2025-10-13 16:11:30 -0400 (Mon, 13 Oct 2025) EndedAt: 2025-10-13 16:13:19 -0400 (Mon, 13 Oct 2025) EllapsedTime: 108.7 seconds RetCode: 0 Status: OK