Package: minfi Version: 1.54.1 Command: rm -rf minfi.buildbin-libdir && mkdir minfi.buildbin-libdir && /Users/biocbuild/BBS/utils/build-universal.sh minfi_1.54.1.tar.gz /Library/Frameworks/R.framework/Resources/bin/R minfi.buildbin-libdir StartedAt: 2025-10-14 14:04:23 -0400 (Tue, 14 Oct 2025) EndedAt: 2025-10-14 14:07:19 -0400 (Tue, 14 Oct 2025) EllapsedTime: 175.9 seconds RetCode: 0 Status: OK PackageFile: minfi_1.54.1.tgz PackageFileSize: 1.54 MiB