Package: minfi Version: 1.54.1 Command: /home/biocbuild/R/R/bin/R CMD INSTALL minfi StartedAt: 2025-10-13 20:55:32 -0000 (Mon, 13 Oct 2025) EndedAt: 2025-10-13 20:56:43 -0000 (Mon, 13 Oct 2025) EllapsedTime: 71.9 seconds RetCode: 0 Status: OK