Package: mina Version: 1.18.0 Command: /home/biocbuild/bbs-3.22-bioc/R/bin/R CMD INSTALL mina StartedAt: 2025-11-17 18:18:59 -0500 (Mon, 17 Nov 2025) EndedAt: 2025-11-17 18:19:30 -0500 (Mon, 17 Nov 2025) EllapsedTime: 30.7 seconds RetCode: 0 Status: OK