Package: mina Version: 1.16.0 Command: rm -rf mina.buildbin-libdir && mkdir mina.buildbin-libdir && /Users/biocbuild/BBS/utils/build-universal.sh mina_1.16.0.tar.gz /Library/Frameworks/R.framework/Resources/bin/R mina.buildbin-libdir StartedAt: 2025-09-26 14:54:07 -0400 (Fri, 26 Sep 2025) EndedAt: 2025-09-26 14:55:31 -0400 (Fri, 26 Sep 2025) EllapsedTime: 84.4 seconds RetCode: 0 Status: OK PackageFile: mina_1.16.0.tgz PackageFileSize: 7.852 MiB