Package: mina Version: 1.18.0 Command: /Library/Frameworks/R.framework/Resources/bin/R CMD check --install=check:mina.install-out.txt --library=/Library/Frameworks/R.framework/Resources/library --no-vignettes --timings mina_1.18.0.tar.gz StartedAt: 2025-11-10 21:01:07 -0500 (Mon, 10 Nov 2025) EndedAt: 2025-11-10 21:02:50 -0500 (Mon, 10 Nov 2025) EllapsedTime: 103.2 seconds RetCode: 0 Status: WARNINGS CheckDir: mina.Rcheck Warnings: 1