Package: miloR Version: 2.4.1 Command: /Library/Frameworks/R.framework/Resources/bin/R CMD check --install=check:miloR.install-out.txt --library=/Library/Frameworks/R.framework/Resources/library --no-vignettes --timings miloR_2.4.1.tar.gz StartedAt: 2025-10-14 06:34:03 -0400 (Tue, 14 Oct 2025) EndedAt: 2025-10-14 06:50:25 -0400 (Tue, 14 Oct 2025) EllapsedTime: 981.7 seconds RetCode: 0 Status: OK CheckDir: miloR.Rcheck Warnings: 0